BEGIN:VCALENDAR
VERSION:2.0
PRODID:-//hacksw/handcal//NONSGML v1.0//EN
BEGIN:VEVENT
SUMMARY:Championnat 12U
UID:914852d1-af9c-423c-9205-6a7e3bd16a1b
DTSTART:20260327T230000Z
DTEND:20260328T230000Z
LOCATION:Localisation   
CATEGORIES:Sportif
STATUS:
DESCRIPTION:<div><span class="x193iq5w xeuugli x13faqbe x1vvkbs
 x1xmvt09 x1lliihq x1s928wv xhkezso x1gmr53x x1cpjm7i x1fgarty
 x1943h6x xudqn12 x3x7a5m x6prxxf xvq8zen xo1l8bm xzsf02u
 x1yc453h"><span style="color:#000000;">Samedi les jeunes</span><span
 style="color:#f39c12;">PHENIX</span>/<span
 style="color:#16a085;">Korrigans</span><span
 style="color:#000000;">12U affronteront :
 </span></span></div>
 
 <ul>
 	<li><span class="x193iq5w xeuugli
 x13faqbe x1vvkbs x1xmvt09 x1lliihq x1s928wv xhkezso x1gmr53x x1cpjm7i
 x1fgarty x1943h6x xudqn12 x3x7a5m x6prxxf xvq8zen xo1l8bm xzsf02u
 x1yc453h"><span style="color:#e74c3c;">Red Wings</span>/<span
 style="color:#8e44ad;">Fireflies</span>/<span
 style="color:#e74c3c;">Firehorse </span>(Rennes/Thorigne
 Fouillard/Val d'Anast)</span></li>
 	<li><span class="x193iq5w xeuugli
 x13faqbe x1vvkbs x1xmvt09 x1lliihq x1s928wv xhkezso x1gmr53x x1cpjm7i
 x1fgarty x1943h6x xudqn12 x3x7a5m x6prxxf xvq8zen xo1l8bm xzsf02u
 x1yc453h"><span style="color:#c0392b;">Mariners
 </span>(Nantes)</span></li>
 </ul>
URL;VALUE=URI:https://www.phenixbaseballclub.com/evenements/2026/03/28/championnat-12u-2441913
END:VEVENT
END:VCALENDAR
