BEGIN:VCALENDAR
VERSION:2.0
PRODID:-//hacksw/handcal//NONSGML v1.0//EN
BEGIN:VEVENT
SUMMARY:Championnat 15U
UID:55b2330d-736e-40fe-b970-f12f4815211b
DTSTART:20260529T220000Z
DTEND:20260530T220000Z
LOCATION:Localisation   
CATEGORIES:Sportif
STATUS:
URL;VALUE=URI:https://www.phenixbaseballclub.com/evenements/2026/05/30/championnat-15u-2442475
END:VEVENT
END:VCALENDAR
